BEGIN:VCALENDAR
VERSION:2.0
PRODID:-//StreamRadar//Match Calendar//EN
CALSCALE:GREGORIAN
METHOD:PUBLISH
X-WR-CALNAME:Club Atlético Mitre vs Chaco For Ever
X-WR-TIMEZONE:America/New_York
BEGIN:VEVENT
UID:match-5560077@streamradar.soccer
SUMMARY:Club Atlético Mitre vs Chaco For Ever
DTSTAMP:20260421T121231Z
DTSTART;TZID=America/New_York:20260905T160000
DTEND;TZID=America/New_York:20260905T180000
LOCATION:Estadio Aurinegro
DESCRIPTION:Где смотреть Club Atlético Mitre – Чако Фо
  Эвер в турнире Аргентина - Примера Насьо
 наль. Прямая трансляция и телепрограмма.\
 nhttps://streamradar.soccer/ru/match/5560077/club-atletico-mitre-vs-chaco-f
 or-ever/
URL;VALUE=URI:https://streamradar.soccer/ru/match/5560077/club-atletico-mit
 re-vs-chaco-for-ever/
STATUS:CONFIRMED
END:VEVENT
END:VCALENDAR
