BEGIN:VCALENDAR
VERSION:2.0
PRODID:-//StreamRadar//Match Calendar//EN
CALSCALE:GREGORIAN
METHOD:PUBLISH
X-WR-CALNAME:Estudiantes Caseros vs Acassuso
X-WR-TIMEZONE:America/New_York
BEGIN:VEVENT
UID:match-5560076@streamradar.soccer
SUMMARY:Estudiantes Caseros vs Acassuso
DTSTAMP:20260421T104311Z
DTSTART;TZID=America/New_York:20260905T160000
DTEND;TZID=America/New_York:20260905T180000
LOCATION:Estadio Ciudad de Caseros
DESCRIPTION:Где смотреть Эстудиантес де Касер
 с – Акассусо в турнире Аргентина - Приме
 а Насьональ. Прямая трансляция и телепро
 грамма.\nhttps://streamradar.soccer/ru/match/5560076/estudiantes-case
 ros-vs-acassuso/
URL;VALUE=URI:https://streamradar.soccer/ru/match/5560076/estudiantes-caser
 os-vs-acassuso/
STATUS:CONFIRMED
END:VEVENT
END:VCALENDAR
