BEGIN:VCALENDAR
VERSION:2.0
PRODID:-//StreamRadar//Match Calendar//EN
CALSCALE:GREGORIAN
METHOD:PUBLISH
X-WR-CALNAME:Atlanta vs Club Atlético Güemes
X-WR-TIMEZONE:America/New_York
BEGIN:VEVENT
UID:match-5560075@streamradar.soccer
SUMMARY:Atlanta vs Club Atlético Güemes
DTSTAMP:20260421T102125Z
DTSTART;TZID=America/New_York:20260905T160000
DTEND;TZID=America/New_York:20260905T180000
DESCRIPTION:Где смотреть Атланта – Club Atlético Güem
 es в турнире Аргентина - Примера Насьональ
 . Прямая трансляция и телепрограмма.\nhttps:/
 /streamradar.soccer/ru/match/5560075/atlanta-vs-club-atletico-g-emes/
URL;VALUE=URI:https://streamradar.soccer/ru/match/5560075/atlanta-vs-club-a
 tletico-g-emes/
STATUS:CONFIRMED
END:VEVENT
END:VCALENDAR
