BEGIN:VCALENDAR
VERSION:2.0
PRODID:-//StreamRadar//Match Calendar//EN
CALSCALE:GREGORIAN
METHOD:PUBLISH
X-WR-CALNAME:Almagro vs Gimnasia y Tiro
X-WR-TIMEZONE:America/New_York
BEGIN:VEVENT
UID:match-5559929@streamradar.soccer
SUMMARY:Almagro vs Gimnasia y Tiro
DTSTAMP:20260421T184038Z
DTSTART;TZID=America/New_York:20260711T160000
DTEND;TZID=America/New_York:20260711T180000
LOCATION:Estadio Tres de Febrero
DESCRIPTION:Где смотреть Альмагро – Химнасия 
  Тиро в турнире Аргентина - Примера Насьо
 наль. Прямая трансляция и телепрограмма.\
 nhttps://streamradar.soccer/ru/match/5559929/almagro-vs-gimnasia-y-tiro/
URL;VALUE=URI:https://streamradar.soccer/ru/match/5559929/almagro-vs-gimnas
 ia-y-tiro/
STATUS:CONFIRMED
END:VEVENT
END:VCALENDAR
