BEGIN:VCALENDAR
VERSION:2.0
PRODID:-//StreamRadar//Match Calendar//EN
CALSCALE:GREGORIAN
METHOD:PUBLISH
X-WR-CALNAME:Botafogo SP vs Goiás
X-WR-TIMEZONE:America/New_York
BEGIN:VEVENT
UID:match-5559555@streamradar.soccer
SUMMARY:Botafogo SP vs Goiás
DTSTAMP:20260421T193510Z
DTSTART;TZID=America/New_York:20260912T150000
DTEND;TZID=America/New_York:20260912T170000
LOCATION:Estadio Santa Cruz
DESCRIPTION:Где смотреть Botafogo SP – Гоияс в турн
 ре Бразилия - Serie B. Прямая трансляция и те
 лепрограмма.\nhttps://streamradar.soccer/ru/match/5559555/botafo
 go-sp-vs-goias/
URL;VALUE=URI:https://streamradar.soccer/ru/match/5559555/botafogo-sp-vs-go
 ias/
STATUS:CONFIRMED
END:VEVENT
END:VCALENDAR
