BEGIN:VCALENDAR
VERSION:2.0
PRODID:-//StreamRadar//Match Calendar//EN
CALSCALE:GREGORIAN
METHOD:PUBLISH
X-WR-CALNAME:Vila Nova vs Goiás
X-WR-TIMEZONE:America/New_York
BEGIN:VEVENT
UID:match-5559551@streamradar.soccer
SUMMARY:Vila Nova vs Goiás
DTSTAMP:20260422T000452Z
DTSTART;TZID=America/New_York:20260909T150000
DTEND;TZID=America/New_York:20260909T170000
DESCRIPTION:Где смотреть Вила Нова – Гоияс в т
 рнире Бразилия - Serie B. Прямая трансляция 
  телепрограмма.\nhttps://streamradar.soccer/ru/match/5559551/
 vila-nova-vs-goias/
URL;VALUE=URI:https://streamradar.soccer/ru/match/5559551/vila-nova-vs-goia
 s/
STATUS:CONFIRMED
END:VEVENT
END:VCALENDAR
