BEGIN:VCALENDAR
VERSION:2.0
PRODID:-//StreamRadar//Match Calendar//EN
CALSCALE:GREGORIAN
METHOD:PUBLISH
X-WR-CALNAME:Fortaleza vs Avaí
X-WR-TIMEZONE:America/New_York
BEGIN:VEVENT
UID:match-5559547@streamradar.soccer
SUMMARY:Fortaleza vs Avaí
DTSTAMP:20260421T152129Z
DTSTART;TZID=America/New_York:20260909T150000
DTEND;TZID=America/New_York:20260909T170000
DESCRIPTION:Где смотреть Fortaleza – Аваи в турнир
  Бразилия - Serie B. Прямая трансляция и теле
 программа.\nhttps://streamradar.soccer/ru/match/5559547/fortaleza-
 vs-avai/
URL;VALUE=URI:https://streamradar.soccer/ru/match/5559547/fortaleza-vs-avai
 /
STATUS:CONFIRMED
END:VEVENT
END:VCALENDAR
