BEGIN:VCALENDAR
VERSION:2.0
PRODID:-//StreamRadar//Match Calendar//EN
CALSCALE:GREGORIAN
METHOD:PUBLISH
X-WR-CALNAME:América Mineiro vs Náutico
X-WR-TIMEZONE:America/New_York
BEGIN:VEVENT
UID:match-5559542@streamradar.soccer
SUMMARY:América Mineiro vs Náutico
DTSTAMP:20260421T135909Z
DTSTART;TZID=America/New_York:20260909T150000
DTEND;TZID=America/New_York:20260909T170000
DESCRIPTION:Где смотреть Америка Минейро – На
 тико в турнире Бразилия - Serie B. Прямая тра
 нсляция и телепрограмма.\nhttps://streamradar.soccer/r
 u/match/5559542/america-mineiro-vs-nautico/
URL;VALUE=URI:https://streamradar.soccer/ru/match/5559542/america-mineiro-v
 s-nautico/
STATUS:CONFIRMED
END:VEVENT
END:VCALENDAR
