BEGIN:VCALENDAR
VERSION:2.0
PRODID:-//StreamRadar//Match Calendar//EN
CALSCALE:GREGORIAN
METHOD:PUBLISH
X-WR-CALNAME:Criciúma vs Cuiabá
X-WR-TIMEZONE:America/New_York
BEGIN:VEVENT
UID:match-5559535@streamradar.soccer
SUMMARY:Criciúma vs Cuiabá
DTSTAMP:20260422T033653Z
DTSTART;TZID=America/New_York:20260905T150000
DTEND;TZID=America/New_York:20260905T170000
DESCRIPTION:Где смотреть Крисьюма – Cuiabá в тур
 ире Бразилия - Serie B. Прямая трансляция и т
 елепрограмма.\nhttps://streamradar.soccer/ru/match/5559535/cric
 iuma-vs-cuiaba/
URL;VALUE=URI:https://streamradar.soccer/ru/match/5559535/criciuma-vs-cuiab
 a/
STATUS:CONFIRMED
END:VEVENT
END:VCALENDAR
