BEGIN:VCALENDAR
VERSION:2.0
PRODID:-//StreamRadar//Match Calendar//EN
CALSCALE:GREGORIAN
METHOD:PUBLISH
X-WR-CALNAME:LDU Quito vs Deportivo Cuenca
X-WR-TIMEZONE:America/New_York
BEGIN:VEVENT
UID:match-5559183@streamradar.soccer
SUMMARY:LDU Quito vs Deportivo Cuenca
DTSTAMP:20260421T204219Z
DTSTART;TZID=America/New_York:20260913T160000
DTEND;TZID=America/New_York:20260913T180000
LOCATION:Estadio Rodrigo Paz Delgado
DESCRIPTION:Где смотреть ЛДУ Кито – Депортиво 
 Куэнка в турнире Эквадор - Примера A Эквад
 ор. Прямая трансляция и телепрограмма.\nhtt
 ps://streamradar.soccer/ru/match/5559183/ldu-quito-vs-deportivo-cuenca/
URL;VALUE=URI:https://streamradar.soccer/ru/match/5559183/ldu-quito-vs-depo
 rtivo-cuenca/
STATUS:CONFIRMED
END:VEVENT
END:VCALENDAR
