BEGIN:VCALENDAR
VERSION:2.0
PRODID:-//StreamRadar//Match Calendar//EN
CALSCALE:GREGORIAN
METHOD:PUBLISH
X-WR-CALNAME:Técnico Universitario vs LDU Quito
X-WR-TIMEZONE:America/New_York
BEGIN:VEVENT
UID:match-5559180@streamradar.soccer
SUMMARY:Técnico Universitario vs LDU Quito
DTSTAMP:20260421T204201Z
DTSTART;TZID=America/New_York:20260906T160000
DTEND;TZID=America/New_York:20260906T180000
LOCATION:Estadio Bellavista
DESCRIPTION:Где смотреть Técnico Universitario – ЛДУ Ки
 о в турнире Эквадор - Примера A Эквадор. П
 ямая трансляция и телепрограмма.\nhttps://stre
 amradar.soccer/ru/match/5559180/tecnico-universitario-vs-ldu-quito/
URL;VALUE=URI:https://streamradar.soccer/ru/match/5559180/tecnico-universit
 ario-vs-ldu-quito/
STATUS:CONFIRMED
END:VEVENT
END:VCALENDAR
