BEGIN:VCALENDAR
VERSION:2.0
PRODID:-//StreamRadar//Match Calendar//EN
CALSCALE:GREGORIAN
METHOD:PUBLISH
X-WR-CALNAME:Macará vs Manta
X-WR-TIMEZONE:America/New_York
BEGIN:VEVENT
UID:match-5559171@streamradar.soccer
SUMMARY:Macará vs Manta
DTSTAMP:20260422T094230Z
DTSTART;TZID=America/New_York:20260902T160000
DTEND;TZID=America/New_York:20260902T180000
LOCATION:Estadio Bellavista
DESCRIPTION:Где смотреть Macará – Manta в турнире Э
 вадор - Примера A Эквадор. Прямая трансля
 ия и телепрограмма.\nhttps://streamradar.soccer/ru/match/5
 559171/macara-vs-manta/
URL;VALUE=URI:https://streamradar.soccer/ru/match/5559171/macara-vs-manta/
STATUS:CONFIRMED
END:VEVENT
END:VCALENDAR
