BEGIN:VCALENDAR
VERSION:2.0
PRODID:-//StreamRadar//Match Calendar//EN
CALSCALE:GREGORIAN
METHOD:PUBLISH
X-WR-CALNAME:UD San Pedro vs Martos
X-WR-TIMEZONE:America/New_York
BEGIN:VEVENT
UID:match-5558150@streamradar.soccer
SUMMARY:UD San Pedro vs Martos
DTSTAMP:20260423T001836Z
DTSTART;TZID=America/New_York:20260311T143000
DTEND;TZID=America/New_York:20260311T163000
LOCATION:Estadio Municipal (San Pedro de Alcántara)
DESCRIPTION:Где смотреть UD San Pedro – Martos в турнир
 е Испания - Tercera Federación. Прямая трансляция 
 и телепрограмма.\nhttps://streamradar.soccer/ru/match/5558150
 /ud-san-pedro-vs-martos/
URL;VALUE=URI:https://streamradar.soccer/ru/match/5558150/ud-san-pedro-vs-m
 artos/
STATUS:CONFIRMED
END:VEVENT
END:VCALENDAR
