BEGIN:VCALENDAR
VERSION:2.0
PRODID:-//StreamRadar//Match Calendar//EN
CALSCALE:GREGORIAN
METHOD:PUBLISH
X-WR-CALNAME:Anápolis vs ABECAT Ouvidorense
X-WR-TIMEZONE:America/New_York
BEGIN:VEVENT
UID:match-5558005@streamradar.soccer
SUMMARY:Anápolis vs ABECAT Ouvidorense
DTSTAMP:20260423T153458Z
DTSTART;TZID=America/New_York:20260222T140000
DTEND;TZID=America/New_York:20260222T160000
LOCATION:Estádio Municipal Jonas Duarte (Anápolis\, Goiás)
DESCRIPTION:Где смотреть Anápolis – ABECAT Ouvidorense в т
 рнире Бразилия - Campeonato Goiano. Прямая трансл
 яция и телепрограмма.\nhttps://streamradar.soccer/ru/matc
 h/5558005/anapolis-vs-abecat-ouvidorense/
URL;VALUE=URI:https://streamradar.soccer/ru/match/5558005/anapolis-vs-abeca
 t-ouvidorense/
STATUS:CONFIRMED
END:VEVENT
END:VCALENDAR
