BEGIN:VCALENDAR
VERSION:2.0
PRODID:-//StreamRadar//Match Calendar//EN
CALSCALE:GREGORIAN
METHOD:PUBLISH
X-WR-CALNAME:Jacksa Spears vs Vasco Da Gama
X-WR-TIMEZONE:America/New_York
BEGIN:VEVENT
UID:match-5555961@streamradar.soccer
SUMMARY:Jacksa Spears vs Vasco Da Gama
DTSTAMP:20260423T153458Z
DTSTART;TZID=America/New_York:20260222T080000
DTEND;TZID=America/New_York:20260222T100000
DESCRIPTION:Где смотреть Jacksa Spears – Vasco Da Gama в ту
 рнире ЮАР - Nedbank Cup. Прямая трансляция и те
 епрограмма.\nhttps://streamradar.soccer/ru/match/5555961/jacksa-
 spears-vs-vasco-da-gama/
URL;VALUE=URI:https://streamradar.soccer/ru/match/5555961/jacksa-spears-vs-
 vasco-da-gama/
STATUS:CONFIRMED
END:VEVENT
END:VCALENDAR
