BEGIN:VCALENDAR
VERSION:2.0
PRODID:-//StreamRadar//Match Calendar//EN
CALSCALE:GREGORIAN
METHOD:PUBLISH
X-WR-CALNAME:MP vs JIPPO
X-WR-TIMEZONE:America/New_York
BEGIN:VEVENT
UID:match-5535694@streamradar.soccer
SUMMARY:MP vs JIPPO
DTSTAMP:20260425T162019Z
DTSTART;TZID=America/New_York:20260919T090000
DTEND;TZID=America/New_York:20260919T110000
LOCATION:Mikkelin Urheilupuisto
DESCRIPTION:Где смотреть MP – JIPPO в турнире Финл
 яндия - Ykkösliiga. Прямая трансляция и телепр
 ограмма.\nhttps://streamradar.soccer/ru/match/5535694/mp-vs-jippo/
URL;VALUE=URI:https://streamradar.soccer/ru/match/5535694/mp-vs-jippo/
STATUS:CONFIRMED
END:VEVENT
END:VCALENDAR
