BEGIN:VCALENDAR
VERSION:2.0
PRODID:-//StreamRadar//Match Calendar//EN
CALSCALE:GREGORIAN
METHOD:PUBLISH
X-WR-CALNAME:Haka vs Klubi-04
X-WR-TIMEZONE:America/New_York
BEGIN:VEVENT
UID:match-5535691@streamradar.soccer
SUMMARY:Haka vs Klubi-04
DTSTAMP:20260425T162200Z
DTSTART;TZID=America/New_York:20260918T113000
DTEND;TZID=America/New_York:20260918T133000
DESCRIPTION:Где смотреть Хака – Klubi-04 в турнире
  Финляндия - Ykkösliiga. Прямая трансляция и т
 лепрограмма.\nhttps://streamradar.soccer/ru/match/5535691/haka-
 vs-klubi-04/
URL;VALUE=URI:https://streamradar.soccer/ru/match/5535691/haka-vs-klubi-04/
STATUS:CONFIRMED
END:VEVENT
END:VCALENDAR
