BEGIN:VCALENDAR
VERSION:2.0
PRODID:-//StreamRadar//Match Calendar//EN
CALSCALE:GREGORIAN
METHOD:PUBLISH
X-WR-CALNAME:B36 vs NSÍ
X-WR-TIMEZONE:America/New_York
BEGIN:VEVENT
UID:match-5535057@streamradar.soccer
SUMMARY:B36 vs NSÍ
DTSTAMP:20260422T052640Z
DTSTART;TZID=America/New_York:20260918T100000
DTEND;TZID=America/New_York:20260918T120000
LOCATION:Gundadalur
DESCRIPTION:Где смотреть B36 – NSÍ в турнире Фаре
 рские острова - Premier League. Прямая трансляци
 я и телепрограмма.\nhttps://streamradar.soccer/ru/match/5535
 057/b36-vs-nsi/
URL;VALUE=URI:https://streamradar.soccer/ru/match/5535057/b36-vs-nsi/
STATUS:CONFIRMED
END:VEVENT
END:VCALENDAR
