BEGIN:VCALENDAR
VERSION:2.0
PRODID:-//StreamRadar//Match Calendar//EN
CALSCALE:GREGORIAN
METHOD:PUBLISH
X-WR-CALNAME:Tvååker vs Trelleborg FF
X-WR-TIMEZONE:America/New_York
BEGIN:VEVENT
UID:match-5534764@streamradar.soccer
SUMMARY:Tvååker vs Trelleborg FF
DTSTAMP:20260423T101935Z
DTSTART;TZID=America/New_York:20260920T070000
DTEND;TZID=America/New_York:20260920T090000
DESCRIPTION:Где смотреть Tvååker – Треллеборг в 
 урнире Швеция - Ettan. Прямая трансляция и т
 елепрограмма.\nhttps://streamradar.soccer/ru/match/5534764/tvaa
 ker-vs-trelleborg-ff/
URL;VALUE=URI:https://streamradar.soccer/ru/match/5534764/tvaaker-vs-trelle
 borg-ff/
STATUS:CONFIRMED
END:VEVENT
END:VCALENDAR
