BEGIN:VCALENDAR
VERSION:2.0
PRODID:-//StreamRadar//Match Calendar//EN
CALSCALE:GREGORIAN
METHOD:PUBLISH
X-WR-CALNAME:Olympic vs Rosengård
X-WR-TIMEZONE:America/New_York
BEGIN:VEVENT
UID:match-5534763@streamradar.soccer
SUMMARY:Olympic vs Rosengård
DTSTAMP:20260423T101011Z
DTSTART;TZID=America/New_York:20260920T070000
DTEND;TZID=America/New_York:20260920T090000
DESCRIPTION:Где смотреть Olympic – Rosengård в турнир
  Швеция - Ettan. Прямая трансляция и телепро
 грамма.\nhttps://streamradar.soccer/ru/match/5534763/olympic-vs-rosen
 gard/
URL;VALUE=URI:https://streamradar.soccer/ru/match/5534763/olympic-vs-roseng
 ard/
STATUS:CONFIRMED
END:VEVENT
END:VCALENDAR
