BEGIN:VCALENDAR
VERSION:2.0
PRODID:-//StreamRadar//Match Calendar//EN
CALSCALE:GREGORIAN
METHOD:PUBLISH
X-WR-CALNAME:Laholm vs Kristianstad
X-WR-TIMEZONE:America/New_York
BEGIN:VEVENT
UID:match-5534762@streamradar.soccer
SUMMARY:Laholm vs Kristianstad
DTSTAMP:20260423T101132Z
DTSTART;TZID=America/New_York:20260920T070000
DTEND;TZID=America/New_York:20260920T090000
DESCRIPTION:Где смотреть Laholm – Kristianstad в турнир
 е Швеция - Ettan. Прямая трансляция и телепр
 грамма.\nhttps://streamradar.soccer/ru/match/5534762/laholm-vs-krist
 ianstad/
URL;VALUE=URI:https://streamradar.soccer/ru/match/5534762/laholm-vs-kristia
 nstad/
STATUS:CONFIRMED
END:VEVENT
END:VCALENDAR
