BEGIN:VCALENDAR
VERSION:2.0
PRODID:-//StreamRadar//Match Calendar//EN
CALSCALE:GREGORIAN
METHOD:PUBLISH
X-WR-CALNAME:Åtvidaberg vs Lund
X-WR-TIMEZONE:America/New_York
BEGIN:VEVENT
UID:match-5534759@streamradar.soccer
SUMMARY:Åtvidaberg vs Lund
DTSTAMP:20260422T152513Z
DTSTART;TZID=America/New_York:20260919T100000
DTEND;TZID=America/New_York:20260919T120000
LOCATION:Kopparvallen
DESCRIPTION:Где смотреть Отвидаберг – Lund в тур
 нире Швеция - Ettan. Прямая трансляция и тел
 программа.\nhttps://streamradar.soccer/ru/match/5534759/atvidaber
 g-vs-lund/
URL;VALUE=URI:https://streamradar.soccer/ru/match/5534759/atvidaberg-vs-lun
 d/
STATUS:CONFIRMED
END:VEVENT
END:VCALENDAR
