BEGIN:VCALENDAR
VERSION:2.0
PRODID:-//StreamRadar//Match Calendar//EN
CALSCALE:GREGORIAN
METHOD:PUBLISH
X-WR-CALNAME:Rosengård vs Trelleborg FF
X-WR-TIMEZONE:America/New_York
BEGIN:VEVENT
UID:match-5534754@streamradar.soccer
SUMMARY:Rosengård vs Trelleborg FF
DTSTAMP:20260421T122528Z
DTSTART;TZID=America/New_York:20260917T130000
DTEND;TZID=America/New_York:20260917T150000
DESCRIPTION:Где смотреть Rosengård – Треллеборг в 
 турнире Швеция - Ettan. Прямая трансляция и 
 елепрограмма.\nhttps://streamradar.soccer/ru/match/5534754/ros
 engard-vs-trelleborg-ff/
URL;VALUE=URI:https://streamradar.soccer/ru/match/5534754/rosengard-vs-trel
 leborg-ff/
STATUS:CONFIRMED
END:VEVENT
END:VCALENDAR
