BEGIN:VCALENDAR
VERSION:2.0
PRODID:-//StreamRadar//Match Calendar//EN
CALSCALE:GREGORIAN
METHOD:PUBLISH
X-WR-CALNAME:Jönköpings Södra vs Åtvidaberg
X-WR-TIMEZONE:America/New_York
BEGIN:VEVENT
UID:match-5534751@streamradar.soccer
SUMMARY:Jönköpings Södra vs Åtvidaberg
DTSTAMP:20260421T112352Z
DTSTART;TZID=America/New_York:20260916T130000
DTEND;TZID=America/New_York:20260916T150000
LOCATION:Stadsparksvallen
DESCRIPTION:Где смотреть Йёнчёпинг Сёдра – От
 идаберг в турнире Швеция - Ettan. Прямая тра
 нсляция и телепрограмма.\nhttps://streamradar.soccer/r
 u/match/5534751/jonkopings-sodra-vs-atvidaberg/
URL;VALUE=URI:https://streamradar.soccer/ru/match/5534751/jonkopings-sodra-
 vs-atvidaberg/
STATUS:CONFIRMED
END:VEVENT
END:VCALENDAR
