BEGIN:VCALENDAR
VERSION:2.0
PRODID:-//StreamRadar//Match Calendar//EN
CALSCALE:GREGORIAN
METHOD:PUBLISH
X-WR-CALNAME:Karlberg vs Stockholm Internazionale
X-WR-TIMEZONE:America/New_York
BEGIN:VEVENT
UID:match-5534521@streamradar.soccer
SUMMARY:Karlberg vs Stockholm Internazionale
DTSTAMP:20260423T102042Z
DTSTART;TZID=America/New_York:20260920T100000
DTEND;TZID=America/New_York:20260920T120000
LOCATION:Stadshagens IP
DESCRIPTION:Где смотреть Karlberg – Stockholm Internazionale 
  турнире Швеция - Ettan. Прямая трансляция и
  телепрограмма.\nhttps://streamradar.soccer/ru/match/5534521/k
 arlberg-vs-stockholm-internazionale/
URL;VALUE=URI:https://streamradar.soccer/ru/match/5534521/karlberg-vs-stock
 holm-internazionale/
STATUS:CONFIRMED
END:VEVENT
END:VCALENDAR
