BEGIN:VCALENDAR
VERSION:2.0
PRODID:-//StreamRadar//Match Calendar//EN
CALSCALE:GREGORIAN
METHOD:PUBLISH
X-WR-CALNAME:Stocksund vs IF Karlstad
X-WR-TIMEZONE:America/New_York
BEGIN:VEVENT
UID:match-5534507@streamradar.soccer
SUMMARY:Stocksund vs IF Karlstad
DTSTAMP:20260421T124721Z
DTSTART;TZID=America/New_York:20260912T100000
DTEND;TZID=America/New_York:20260912T120000
LOCATION:Danderyd IP
DESCRIPTION:Где смотреть Stocksund – IF Karlstad в турни
 ре Швеция - Ettan. Прямая трансляция и телеп
 ограмма.\nhttps://streamradar.soccer/ru/match/5534507/stocksund-vs-
 if-karlstad/
URL;VALUE=URI:https://streamradar.soccer/ru/match/5534507/stocksund-vs-if-k
 arlstad/
STATUS:CONFIRMED
END:VEVENT
END:VCALENDAR
