BEGIN:VCALENDAR
VERSION:2.0
PRODID:-//StreamRadar//Match Calendar//EN
CALSCALE:GREGORIAN
METHOD:PUBLISH
X-WR-CALNAME:Piteå vs Karlberg
X-WR-TIMEZONE:America/New_York
BEGIN:VEVENT
UID:match-5534497@streamradar.soccer
SUMMARY:Piteå vs Karlberg
DTSTAMP:20260421T112148Z
DTSTART;TZID=America/New_York:20260906T100000
DTEND;TZID=America/New_York:20260906T120000
LOCATION:LF Arena
DESCRIPTION:Где смотреть Piteå – Karlberg в турнире 
 веция - Ettan. Прямая трансляция и телепрог
 амма.\nhttps://streamradar.soccer/ru/match/5534497/pitea-vs-karlberg/
URL;VALUE=URI:https://streamradar.soccer/ru/match/5534497/pitea-vs-karlberg
 /
STATUS:CONFIRMED
END:VEVENT
END:VCALENDAR
