BEGIN:VCALENDAR
VERSION:2.0
PRODID:-//StreamRadar//Match Calendar//EN
CALSCALE:GREGORIAN
METHOD:PUBLISH
X-WR-CALNAME:Sportivo Barracas vs Cañuelas
X-WR-TIMEZONE:America/New_York
BEGIN:VEVENT
UID:match-5534249@streamradar.soccer
SUMMARY:Sportivo Barracas vs Cañuelas
DTSTAMP:20260422T043350Z
DTSTART;TZID=America/New_York:20260919T160000
DTEND;TZID=America/New_York:20260919T180000
DESCRIPTION:Где смотреть Спортиво Барракас – 
 аньюэлас в турнире Аргентина - Primera C Metropol
 itana. Прямая трансляция и телепрограмма.\nht
 tps://streamradar.soccer/ru/match/5534249/sportivo-barracas-vs-canuelas/
URL;VALUE=URI:https://streamradar.soccer/ru/match/5534249/sportivo-barracas
 -vs-canuelas/
STATUS:CONFIRMED
END:VEVENT
END:VCALENDAR
