BEGIN:VCALENDAR
VERSION:2.0
PRODID:-//StreamRadar//Match Calendar//EN
CALSCALE:GREGORIAN
METHOD:PUBLISH
X-WR-CALNAME:Sacachispas vs Victoriano Arenas
X-WR-TIMEZONE:America/New_York
BEGIN:VEVENT
UID:match-5534248@streamradar.soccer
SUMMARY:Sacachispas vs Victoriano Arenas
DTSTAMP:20260422T033046Z
DTSTART;TZID=America/New_York:20260919T160000
DTEND;TZID=America/New_York:20260919T180000
LOCATION:Estadio Beto Larrosa
DESCRIPTION:Где смотреть Сакачиспас – Виктори
 ано Аренас в турнире Аргентина - Primera C Metrop
 olitana. Прямая трансляция и телепрограмма.\n
 https://streamradar.soccer/ru/match/5534248/sacachispas-vs-victoriano-arena
 s/
URL;VALUE=URI:https://streamradar.soccer/ru/match/5534248/sacachispas-vs-vi
 ctoriano-arenas/
STATUS:CONFIRMED
END:VEVENT
END:VCALENDAR
