BEGIN:VCALENDAR
VERSION:2.0
PRODID:-//StreamRadar//Match Calendar//EN
CALSCALE:GREGORIAN
METHOD:PUBLISH
X-WR-CALNAME:Argentino Rosario vs Berazategui
X-WR-TIMEZONE:America/New_York
BEGIN:VEVENT
UID:match-5534236@streamradar.soccer
SUMMARY:Argentino Rosario vs Berazategui
DTSTAMP:20260422T043352Z
DTSTART;TZID=America/New_York:20260919T160000
DTEND;TZID=America/New_York:20260919T180000
DESCRIPTION:Где смотреть Архентино Росарио – 
 ерасатеги в турнире Аргентина - Primera C Metrop
 olitana. Прямая трансляция и телепрограмма.\n
 https://streamradar.soccer/ru/match/5534236/argentino-rosario-vs-berazategu
 i/
URL;VALUE=URI:https://streamradar.soccer/ru/match/5534236/argentino-rosario
 -vs-berazategui/
STATUS:CONFIRMED
END:VEVENT
END:VCALENDAR
