BEGIN:VCALENDAR
VERSION:2.0
PRODID:-//StreamRadar//Match Calendar//EN
CALSCALE:GREGORIAN
METHOD:PUBLISH
X-WR-CALNAME:Juventud Unida vs El Porvenir
X-WR-TIMEZONE:America/New_York
BEGIN:VEVENT
UID:match-5534233@streamradar.soccer
SUMMARY:Juventud Unida vs El Porvenir
DTSTAMP:20260421T204159Z
DTSTART;TZID=America/New_York:20260912T160000
DTEND;TZID=America/New_York:20260912T180000
DESCRIPTION:Где смотреть Juventud Unida – Эль Порвен
 р в турнире Аргентина - Primera C Metropolitana. Пря
 ая трансляция и телепрограмма.\nhttps://streamra
 dar.soccer/ru/match/5534233/juventud-unida-vs-el-porvenir/
URL;VALUE=URI:https://streamradar.soccer/ru/match/5534233/juventud-unida-vs
 -el-porvenir/
STATUS:CONFIRMED
END:VEVENT
END:VCALENDAR
