BEGIN:VCALENDAR
VERSION:2.0
PRODID:-//StreamRadar//Match Calendar//EN
CALSCALE:GREGORIAN
METHOD:PUBLISH
X-WR-CALNAME:Estrella del Sur vs Yupanqui
X-WR-TIMEZONE:America/New_York
BEGIN:VEVENT
UID:match-5534230@streamradar.soccer
SUMMARY:Estrella del Sur vs Yupanqui
DTSTAMP:20260421T194937Z
DTSTART;TZID=America/New_York:20260912T160000
DTEND;TZID=America/New_York:20260912T180000
DESCRIPTION:Где смотреть Estrella Del Sur – Юпанки в т
 урнире Аргентина - Primera C Metropolitana. Прямая т
 ансляция и телепрограмма.\nhttps://streamradar.socce
 r/ru/match/5534230/estrella-del-sur-vs-yupanqui/
URL;VALUE=URI:https://streamradar.soccer/ru/match/5534230/estrella-del-sur-
 vs-yupanqui/
STATUS:CONFIRMED
END:VEVENT
END:VCALENDAR
