BEGIN:VCALENDAR
VERSION:2.0
PRODID:-//StreamRadar//Match Calendar//EN
CALSCALE:GREGORIAN
METHOD:PUBLISH
X-WR-CALNAME:Victoriano Arenas vs Argentino Rosario
X-WR-TIMEZONE:America/New_York
BEGIN:VEVENT
UID:match-5534220@streamradar.soccer
SUMMARY:Victoriano Arenas vs Argentino Rosario
DTSTAMP:20260421T182710Z
DTSTART;TZID=America/New_York:20260905T160000
DTEND;TZID=America/New_York:20260905T180000
LOCATION:Estadio Saturnino Moure
DESCRIPTION:Где смотреть Викториано Аренас – 
 рхентино Росарио в турнире Аргентина - Pri
 mera C Metropolitana. Прямая трансляция и телепрог
 рамма.\nhttps://streamradar.soccer/ru/match/5534220/victoriano-arenas-
 vs-argentino-rosario/
URL;VALUE=URI:https://streamradar.soccer/ru/match/5534220/victoriano-arenas
 -vs-argentino-rosario/
STATUS:CONFIRMED
END:VEVENT
END:VCALENDAR
