BEGIN:VCALENDAR
VERSION:2.0
PRODID:-//StreamRadar//Match Calendar//EN
CALSCALE:GREGORIAN
METHOD:PUBLISH
X-WR-CALNAME:Central Córdoba vs El Porvenir
X-WR-TIMEZONE:America/New_York
BEGIN:VEVENT
UID:match-5534211@streamradar.soccer
SUMMARY:Central Córdoba vs El Porvenir
DTSTAMP:20260421T233045Z
DTSTART;TZID=America/New_York:20260905T160000
DTEND;TZID=America/New_York:20260905T180000
DESCRIPTION:Где смотреть Сентраль Кордова – Э
 ь Порвенир в турнире Аргентина - Primera C Metro
 politana. Прямая трансляция и телепрограмма.\
 nhttps://streamradar.soccer/ru/match/5534211/central-cordoba-vs-el-porvenir
 /
URL;VALUE=URI:https://streamradar.soccer/ru/match/5534211/central-cordoba-v
 s-el-porvenir/
STATUS:CONFIRMED
END:VEVENT
END:VCALENDAR
