BEGIN:VCALENDAR
VERSION:2.0
PRODID:-//StreamRadar//Match Calendar//EN
CALSCALE:GREGORIAN
METHOD:PUBLISH
X-WR-CALNAME:Cañuelas vs Luján
X-WR-TIMEZONE:America/New_York
BEGIN:VEVENT
UID:match-5534210@streamradar.soccer
SUMMARY:Cañuelas vs Luján
DTSTAMP:20260421T220327Z
DTSTART;TZID=America/New_York:20260905T160000
DTEND;TZID=America/New_York:20260905T180000
DESCRIPTION:Где смотреть Каньюэлас – Лухан в т
 урнире Аргентина - Primera C Metropolitana. Прямая т
 ансляция и телепрограмма.\nhttps://streamradar.socce
 r/ru/match/5534210/canuelas-vs-lujan/
URL;VALUE=URI:https://streamradar.soccer/ru/match/5534210/canuelas-vs-lujan
 /
STATUS:CONFIRMED
END:VEVENT
END:VCALENDAR
