BEGIN:VCALENDAR
VERSION:2.0
PRODID:-//StreamRadar//Match Calendar//EN
CALSCALE:GREGORIAN
METHOD:PUBLISH
X-WR-CALNAME:Centro Español vs Victoriano Arenas
X-WR-TIMEZONE:America/New_York
BEGIN:VEVENT
UID:match-5534141@streamradar.soccer
SUMMARY:Centro Español vs Victoriano Arenas
DTSTAMP:20260422T015633Z
DTSTART;TZID=America/New_York:20260801T160000
DTEND;TZID=America/New_York:20260801T180000
DESCRIPTION:Где смотреть Сентро Эспаньол – Ви
 ториано Аренас в турнире Аргентина - Primera
  C Metropolitana. Прямая трансляция и телепрогра
 мма.\nhttps://streamradar.soccer/ru/match/5534141/centro-espanol-vs-vict
 oriano-arenas/
URL;VALUE=URI:https://streamradar.soccer/ru/match/5534141/centro-espanol-vs
 -victoriano-arenas/
STATUS:CONFIRMED
END:VEVENT
END:VCALENDAR
