BEGIN:VCALENDAR
VERSION:2.0
PRODID:-//StreamRadar//Match Calendar//EN
CALSCALE:GREGORIAN
METHOD:PUBLISH
X-WR-CALNAME:Berazategui vs Mercedes
X-WR-TIMEZONE:America/New_York
BEGIN:VEVENT
UID:match-5534126@streamradar.soccer
SUMMARY:Berazategui vs Mercedes
DTSTAMP:20260422T000441Z
DTSTART;TZID=America/New_York:20260725T160000
DTEND;TZID=America/New_York:20260725T180000
DESCRIPTION:Где смотреть Берасатеги – Mercedes в т
 урнире Аргентина - Primera C Metropolitana. Прямая т
 ансляция и телепрограмма.\nhttps://streamradar.socce
 r/ru/match/5534126/berazategui-vs-mercedes/
URL;VALUE=URI:https://streamradar.soccer/ru/match/5534126/berazategui-vs-me
 rcedes/
STATUS:CONFIRMED
END:VEVENT
END:VCALENDAR
