BEGIN:VCALENDAR
VERSION:2.0
PRODID:-//StreamRadar//Match Calendar//EN
CALSCALE:GREGORIAN
METHOD:PUBLISH
X-WR-CALNAME:Cañuelas vs Leandro Nicéforo Alem
X-WR-TIMEZONE:America/New_York
BEGIN:VEVENT
UID:match-5534112@streamradar.soccer
SUMMARY:Cañuelas vs Leandro Nicéforo Alem
DTSTAMP:20260422T000447Z
DTSTART;TZID=America/New_York:20260718T160000
DTEND;TZID=America/New_York:20260718T180000
DESCRIPTION:Где смотреть Каньюэлас – Леандро 
 . Алем в турнире Аргентина - Primera C Metropolitana.
  Прямая трансляция и телепрограмма.\nhttps://
 streamradar.soccer/ru/match/5534112/canuelas-vs-leandro-niceforo-alem/
URL;VALUE=URI:https://streamradar.soccer/ru/match/5534112/canuelas-vs-leand
 ro-niceforo-alem/
STATUS:CONFIRMED
END:VEVENT
END:VCALENDAR
