BEGIN:VCALENDAR
VERSION:2.0
PRODID:-//StreamRadar//Match Calendar//EN
CALSCALE:GREGORIAN
METHOD:PUBLISH
X-WR-CALNAME:Incheon United vs Daejeon Citizen
X-WR-TIMEZONE:America/New_York
BEGIN:VEVENT
UID:match-5533823@streamradar.soccer
SUMMARY:Incheon United vs Daejeon Citizen
DTSTAMP:20260423T083954Z
DTSTART;TZID=America/New_York:20260920T060000
DTEND;TZID=America/New_York:20260920T080000
LOCATION:Sungui Arena Park
DESCRIPTION:Где смотреть Инчхон Юнайтед – Daejeon
  Citizen в турнире Южная Корея - K League 1. Прямая
  трансляция и телепрограмма.\nhttps://streamradar.s
 occer/ru/match/5533823/incheon-united-vs-daejeon-citizen/
URL;VALUE=URI:https://streamradar.soccer/ru/match/5533823/incheon-united-vs
 -daejeon-citizen/
STATUS:CONFIRMED
END:VEVENT
END:VCALENDAR
