BEGIN:VCALENDAR
VERSION:2.0
PRODID:-//StreamRadar//Match Calendar//EN
CALSCALE:GREGORIAN
METHOD:PUBLISH
X-WR-CALNAME:Gangwon vs Jeju United
X-WR-TIMEZONE:America/New_York
BEGIN:VEVENT
UID:match-5533821@streamradar.soccer
SUMMARY:Gangwon vs Jeju United
DTSTAMP:20260423T083958Z
DTSTART;TZID=America/New_York:20260920T033000
DTEND;TZID=America/New_York:20260920T053000
LOCATION:Chuncheon Songam Stadium
DESCRIPTION:Где смотреть Gangwon – Чеджу Юнайтед 
  турнире Южная Корея - K League 1. Прямая тран
 ляция и телепрограмма.\nhttps://streamradar.soccer/ru/m
 atch/5533821/gangwon-vs-jeju-united/
URL;VALUE=URI:https://streamradar.soccer/ru/match/5533821/gangwon-vs-jeju-u
 nited/
STATUS:CONFIRMED
END:VEVENT
END:VCALENDAR
