BEGIN:VCALENDAR
VERSION:2.0
PRODID:-//StreamRadar//Match Calendar//EN
CALSCALE:GREGORIAN
METHOD:PUBLISH
X-WR-CALNAME:Anyang vs Ulsan
X-WR-TIMEZONE:America/New_York
BEGIN:VEVENT
UID:match-5533820@streamradar.soccer
SUMMARY:Anyang vs Ulsan
DTSTAMP:20260422T025458Z
DTSTART;TZID=America/New_York:20260919T060000
DTEND;TZID=America/New_York:20260919T080000
LOCATION:Anyang Stadium
DESCRIPTION:Где смотреть Anyang – Ульсан в турнир
 е Южная Корея - K League 1. Прямая трансляция и
  телепрограмма.\nhttps://streamradar.soccer/ru/match/5533820/a
 nyang-vs-ulsan/
URL;VALUE=URI:https://streamradar.soccer/ru/match/5533820/anyang-vs-ulsan/
STATUS:CONFIRMED
END:VEVENT
END:VCALENDAR
