BEGIN:VCALENDAR
VERSION:2.0
PRODID:-//StreamRadar//Match Calendar//EN
CALSCALE:GREGORIAN
METHOD:PUBLISH
X-WR-CALNAME:Daejeon Citizen vs Pohang Steelers
X-WR-TIMEZONE:America/New_York
BEGIN:VEVENT
UID:match-5533816@streamradar.soccer
SUMMARY:Daejeon Citizen vs Pohang Steelers
DTSTAMP:20260421T194929Z
DTSTART;TZID=America/New_York:20260912T060000
DTEND;TZID=America/New_York:20260912T080000
LOCATION:Daejeon World Cup Stadium
DESCRIPTION:Где смотреть Daejeon Citizen – Пхохан Сти
 лерс в турнире Южная Корея - K League 1. Прямая
  трансляция и телепрограмма.\nhttps://streamradar.s
 occer/ru/match/5533816/daejeon-citizen-vs-pohang-steelers/
URL;VALUE=URI:https://streamradar.soccer/ru/match/5533816/daejeon-citizen-v
 s-pohang-steelers/
STATUS:CONFIRMED
END:VEVENT
END:VCALENDAR
