BEGIN:VCALENDAR
VERSION:2.0
PRODID:-//StreamRadar//Match Calendar//EN
CALSCALE:GREGORIAN
METHOD:PUBLISH
X-WR-CALNAME:Jeju United vs Incheon United
X-WR-TIMEZONE:America/New_York
BEGIN:VEVENT
UID:match-5533769@streamradar.soccer
SUMMARY:Jeju United vs Incheon United
DTSTAMP:20260421T225914Z
DTSTART;TZID=America/New_York:20260802T063000
DTEND;TZID=America/New_York:20260802T083000
LOCATION:Jeju World Cup Stadium
DESCRIPTION:Где смотреть Чеджу Юнайтед – Инчх
 н Юнайтед в турнире Южная Корея - K League 1. П
 рямая трансляция и телепрограмма.\nhttps://str
 eamradar.soccer/ru/match/5533769/jeju-united-vs-incheon-united/
URL;VALUE=URI:https://streamradar.soccer/ru/match/5533769/jeju-united-vs-in
 cheon-united/
STATUS:CONFIRMED
END:VEVENT
END:VCALENDAR
