BEGIN:VCALENDAR
VERSION:2.0
PRODID:-//StreamRadar//Match Calendar//EN
CALSCALE:GREGORIAN
METHOD:PUBLISH
X-WR-CALNAME:Daejeon Citizen vs Gwangju
X-WR-TIMEZONE:America/New_York
BEGIN:VEVENT
UID:match-5533768@streamradar.soccer
SUMMARY:Daejeon Citizen vs Gwangju
DTSTAMP:20260421T230739Z
DTSTART;TZID=America/New_York:20260802T063000
DTEND;TZID=America/New_York:20260802T083000
LOCATION:Daejeon World Cup Stadium
DESCRIPTION:Где смотреть Daejeon Citizen – Gwangju в турн
 ире Южная Корея - K League 1. Прямая трансляци
  и телепрограмма.\nhttps://streamradar.soccer/ru/match/55337
 68/daejeon-citizen-vs-gwangju/
URL;VALUE=URI:https://streamradar.soccer/ru/match/5533768/daejeon-citizen-v
 s-gwangju/
STATUS:CONFIRMED
END:VEVENT
END:VCALENDAR
