BEGIN:VCALENDAR
VERSION:2.0
PRODID:-//StreamRadar//Match Calendar//EN
CALSCALE:GREGORIAN
METHOD:PUBLISH
X-WR-CALNAME:Sangju Sangmu vs Daejeon Citizen
X-WR-TIMEZONE:America/New_York
BEGIN:VEVENT
UID:match-5533759@streamradar.soccer
SUMMARY:Sangju Sangmu vs Daejeon Citizen
DTSTAMP:20260422T014021Z
DTSTART;TZID=America/New_York:20260725T063000
DTEND;TZID=America/New_York:20260725T083000
LOCATION:Gimcheon Stadium
DESCRIPTION:Где смотреть Санджу Санму – Daejeon Cit
 izen в турнире Южная Корея - K League 1. Прямая т
 ансляция и телепрограмма.\nhttps://streamradar.socce
 r/ru/match/5533759/sangju-sangmu-vs-daejeon-citizen/
URL;VALUE=URI:https://streamradar.soccer/ru/match/5533759/sangju-sangmu-vs-
 daejeon-citizen/
STATUS:CONFIRMED
END:VEVENT
END:VCALENDAR
