BEGIN:VCALENDAR
VERSION:2.0
PRODID:-//StreamRadar//Match Calendar//EN
CALSCALE:GREGORIAN
METHOD:PUBLISH
X-WR-CALNAME:Jeonbuk Motors vs Daejeon Citizen
X-WR-TIMEZONE:America/New_York
BEGIN:VEVENT
UID:match-5533754@streamradar.soccer
SUMMARY:Jeonbuk Motors vs Daejeon Citizen
DTSTAMP:20260422T014020Z
DTSTART;TZID=America/New_York:20260721T063000
DTEND;TZID=America/New_York:20260721T083000
LOCATION:Jeonju World Cup Stadium
DESCRIPTION:Где смотреть Чонбук Хёндэ Моторс 
  Daejeon Citizen в турнире Южная Корея - K League 1. П
 ямая трансляция и телепрограмма.\nhttps://stre
 amradar.soccer/ru/match/5533754/jeonbuk-motors-vs-daejeon-citizen/
URL;VALUE=URI:https://streamradar.soccer/ru/match/5533754/jeonbuk-motors-vs
 -daejeon-citizen/
STATUS:CONFIRMED
END:VEVENT
END:VCALENDAR
