BEGIN:VCALENDAR
VERSION:2.0
PRODID:-//StreamRadar//Match Calendar//EN
CALSCALE:GREGORIAN
METHOD:PUBLISH
X-WR-CALNAME:ÍA vs KR
X-WR-TIMEZONE:America/New_York
BEGIN:VEVENT
UID:match-5533002@streamradar.soccer
SUMMARY:ÍA vs KR
DTSTAMP:20260425T115710Z
DTSTART;TZID=America/New_York:20260906T100000
DTEND;TZID=America/New_York:20260906T120000
DESCRIPTION:Где смотреть ИА – КР в турнире Исл
 ндия - Besta deild karla. Прямая трансляция и тел
 программа.\nhttps://streamradar.soccer/ru/match/5533002/ia-vs-kr/
URL;VALUE=URI:https://streamradar.soccer/ru/match/5533002/ia-vs-kr/
STATUS:CONFIRMED
END:VEVENT
END:VCALENDAR
