BEGIN:VCALENDAR
VERSION:2.0
PRODID:-//StreamRadar//Match Calendar//EN
CALSCALE:GREGORIAN
METHOD:PUBLISH
X-WR-CALNAME:Dinamo Tbilisi vs Meshakhte
X-WR-TIMEZONE:America/New_York
BEGIN:VEVENT
UID:match-5532393@streamradar.soccer
SUMMARY:Dinamo Tbilisi vs Meshakhte
DTSTAMP:20260421T205608Z
DTSTART;TZID=America/New_York:20260909T090000
DTEND;TZID=America/New_York:20260909T110000
LOCATION:Boris Paichadze Dinamo Arena
DESCRIPTION:Где смотреть Динамо (Тбилиси) – Mesha
 khte в турнире Грузия - Эровнули Лига. Пряма
 я трансляция и телепрограмма.\nhttps://streamradar
 .soccer/ru/match/5532393/dinamo-tbilisi-vs-meshakhte/
URL;VALUE=URI:https://streamradar.soccer/ru/match/5532393/dinamo-tbilisi-vs
 -meshakhte/
STATUS:CONFIRMED
END:VEVENT
END:VCALENDAR
