BEGIN:VCALENDAR
VERSION:2.0
PRODID:-//StreamRadar//Match Calendar//EN
CALSCALE:GREGORIAN
METHOD:PUBLISH
X-WR-CALNAME:Torpedo Kutaisi vs Dinamo Tbilisi
X-WR-TIMEZONE:America/New_York
BEGIN:VEVENT
UID:match-5532391@streamradar.soccer
SUMMARY:Torpedo Kutaisi vs Dinamo Tbilisi
DTSTAMP:20260421T211033Z
DTSTART;TZID=America/New_York:20260905T090000
DTEND;TZID=America/New_York:20260905T110000
LOCATION:Stadion Ramaz Shengelia
DESCRIPTION:Где смотреть Торпедо (Кутаиси) – Д
 намо (Тбилиси) в турнире Грузия - Эровнул
  Лига. Прямая трансляция и телепрограмма
 .\nhttps://streamradar.soccer/ru/match/5532391/torpedo-kutaisi-vs-dinamo-tb
 ilisi/
URL;VALUE=URI:https://streamradar.soccer/ru/match/5532391/torpedo-kutaisi-v
 s-dinamo-tbilisi/
STATUS:CONFIRMED
END:VEVENT
END:VCALENDAR
