BEGIN:VCALENDAR
VERSION:2.0
PRODID:-//StreamRadar//Match Calendar//EN
CALSCALE:GREGORIAN
METHOD:PUBLISH
X-WR-CALNAME:Stabæk vs Røa
X-WR-TIMEZONE:America/New_York
BEGIN:VEVENT
UID:match-5509899@streamradar.soccer
SUMMARY:Stabæk vs Røa
DTSTAMP:20260421T185335Z
DTSTART;TZID=America/New_York:20260620T100000
DTEND;TZID=America/New_York:20260620T120000
LOCATION:Nadderud Stadion
DESCRIPTION:Где смотреть Stabæk – Røa в турнире Но
 рвегия - Toppserien. Прямая трансляция и телеп
 ограмма.\nhttps://streamradar.soccer/ru/match/5509899/stabk-vs-ra/
URL;VALUE=URI:https://streamradar.soccer/ru/match/5509899/stabk-vs-ra/
STATUS:CONFIRMED
END:VEVENT
END:VCALENDAR
